BEGIN:VCALENDAR
VERSION:2.0
PRODID:-//eventon.com NONSGML v1.0//EN
CALSCALE:GREGORIAN
METHOD:PUBLISH
BEGIN:VEVENT
UID:69e5ec9374dd9
DTSTAMP:20260420T090627Z
DTSTART:20230606T130000Z
DTEND:20230711T150000Z
LOCATION:ZOOM
SUMMARY:Manager Ã®n era transformÄƒrii digitale
DESCRIPTION:Cursul Managerul digital organizat de EXEC-EDU Ã®È™i propune sÄ
 ƒ echipeze managerii cu aceste competenÈ›e\,  pe parcursul a 4 module\,  ca
 re pot fi accesate independent sau ca un program integrat. DuratÄƒ: 5 sesiu
 ni\nhttps://exec-edu.ro/calendar/manager-in-era-transformarii-digitale/
URL:https://exec-edu.ro/calendar/manager-in-era-transformarii-digitale/
END:VEVENT
END:VCALENDAR